BEGIN:VCALENDAR
VERSION:2.0
PRODID:-//Shop Tennyson - ECPv4.9.3.1//NONSGML v1.0//EN
CALSCALE:GREGORIAN
METHOD:PUBLISH
X-WR-CALNAME:Shop Tennyson
X-ORIGINAL-URL:https://shoptennyson.com
X-WR-CALDESC:Events for Shop Tennyson
BEGIN:VEVENT
DTSTART;TZID=UTC-6:20170910T200000
DTEND;TZID=UTC-6:20170910T200000
DTSTAMP:20260421T102832
CREATED:20170907T232055Z
LAST-MODIFIED:20170911T233202Z
UID:14852-1505073600-1505073600@shoptennyson.com
SUMMARY:Will James & Friends!
DESCRIPTION:Join our September Resident Musician\, Will James\, this Sunday at 8pm. This week\, Will James and Friends will be performing with a FULL BAND! He’ll be joined by some of Colorado’s best musicians. Come out and join us this Sunday for Will James & Friends with some VERY special guests! \n
URL:https://shoptennyson.com/event/will-james-friends/
LOCATION:Tennyson’s Tap\, 4335 W 38th Ave\, Denver\, CO\, 80212\, United States
GEO:39.7696844;-105.0436554
X-APPLE-STRUCTURED-LOCATION;VALUE=URI;X-ADDRESS=Tennyson’s Tap 4335 W 38th Ave Denver CO 80212 United States;X-APPLE-RADIUS=500;X-TITLE=4335 W 38th Ave:geo:-105.0436554,39.7696844
ATTACH;FMTTYPE=image/jpeg:https://shoptennyson.com/wp-content/uploads/2017/09/7db980499849d9a78bbc121bcead99b8.jpg
END:VEVENT
END:VCALENDAR