BEGIN:VCALENDAR
VERSION:2.0
PRODID:-//Shop Tennyson - ECPv4.9.3.1//NONSGML v1.0//EN
CALSCALE:GREGORIAN
METHOD:PUBLISH
X-WR-CALNAME:Shop Tennyson
X-ORIGINAL-URL:https://shoptennyson.com
X-WR-CALDESC:Events for Shop Tennyson
BEGIN:VEVENT
DTSTART;TZID=UTC-6:20170912T190000
DTEND;TZID=UTC-6:20170912T210000
DTSTAMP:20260421T062727
CREATED:20170908T222117Z
LAST-MODIFIED:20170913T224741Z
UID:14915-1505242800-1505250000@shoptennyson.com
SUMMARY:The North Face Presents - Speaker Series : Films From The Field
DESCRIPTION:Members of The North Face Athlete team will host an evening with a collection of films and share with you never told stories of adventure\, triumph\, and culture from all ends of the earth.  Experience the Gurung tribe of Nepal through the lens of Renan Ozturk and Ben Knight\, African big wall climbing with Alex Honnold\, endurance trail runners that are changing the face of adventure\, and the most beautiful snow lines from peaks of British Columbia to the Baltic Sea.\nIn partnership with Paradox Sports\, all proceeds from The North Face Speaker Series Films from the Field will be donated to support adaptive climbing.  To learn more about Paradox Sports\, visit http://www.paradoxsports.com or speak with a representative at this year film tour. \n
URL:https://shoptennyson.com/event/the-north-face-presents-speaker-series-films-from-the-field/
LOCATION:The Oriental Theater\, 4335 W 44th Ave\, Denver\, CO\, 80212\, United States
GEO:39.7767576;-105.0435938
X-APPLE-STRUCTURED-LOCATION;VALUE=URI;X-ADDRESS=The Oriental Theater 4335 W 44th Ave Denver CO 80212 United States;X-APPLE-RADIUS=500;X-TITLE=4335 W 44th Ave:geo:-105.0435938,39.7767576
ATTACH;FMTTYPE=image/jpeg:https://shoptennyson.com/wp-content/uploads/2017/09/a4e539a0f96df2b38312cf2420184fbd.jpg
END:VEVENT
END:VCALENDAR