BEGIN:VCALENDAR
VERSION:2.0
PRODID:-//Shop Tennyson - ECPv4.9.3.1//NONSGML v1.0//EN
CALSCALE:GREGORIAN
METHOD:PUBLISH
X-WR-CALNAME:Shop Tennyson
X-ORIGINAL-URL:https://shoptennyson.com
X-WR-CALDESC:Events for Shop Tennyson
BEGIN:VEVENT
DTSTART;TZID=UTC-6:20170912T190000
DTEND;TZID=UTC-6:20170913T020000
DTSTAMP:20260421T045922
CREATED:20170907T232119Z
LAST-MODIFIED:20170913T224740Z
UID:14866-1505242800-1505268000@shoptennyson.com
SUMMARY:Techno Taco Tequila Tuesday
DESCRIPTION:Techno Tacos Tequila Tuesday’s at Tennyson’s Tap line-up: \nRyan Mack – ( Get Loose! )\nTodd Baran – ( Get Loose! )\nCharlie Koval – ( The Funbuns Faction )\nAlex M – ( Hemisphere Groove Collective )  \nFREE TACOS\, TAPAS\, AND TECHNO ALL NIGHT! \nDelicious Tequila & Michelada Specials\, come have a drink with us! \nShake it baby\, shake it!! \n
URL:https://shoptennyson.com/event/techno-taco-tequila-tuesday-2/
LOCATION:Tennyson’s Tap\, 4335 W 38th Ave\, Denver\, CO\, 80212\, United States
GEO:39.7696844;-105.0436554
X-APPLE-STRUCTURED-LOCATION;VALUE=URI;X-ADDRESS=Tennyson’s Tap 4335 W 38th Ave Denver CO 80212 United States;X-APPLE-RADIUS=500;X-TITLE=4335 W 38th Ave:geo:-105.0436554,39.7696844
ATTACH;FMTTYPE=image/jpeg:https://shoptennyson.com/wp-content/uploads/2017/09/669547de803db43be339e6a83e80853f.jpg
END:VEVENT
END:VCALENDAR