BEGIN:VCALENDAR
VERSION:2.0
PRODID:-//Shop Tennyson - ECPv4.9.3.1//NONSGML v1.0//EN
CALSCALE:GREGORIAN
METHOD:PUBLISH
X-WR-CALNAME:Shop Tennyson
X-ORIGINAL-URL:https://shoptennyson.com
X-WR-CALDESC:Events for Shop Tennyson
BEGIN:VEVENT
DTSTART;TZID=UTC-6:20170909T210000
DTEND;TZID=UTC-6:20170910T000000
DTSTAMP:20260421T164220
CREATED:20170907T231739Z
LAST-MODIFIED:20170910T235228Z
UID:14842-1504990800-1505001600@shoptennyson.com
SUMMARY:Soul at The Local 46 !
DESCRIPTION:So excited to be playing at The Local 46\, voted one of the best out door patios\, great food and music\,see you there! \n
URL:https://shoptennyson.com/event/soul-at-the-local-46/
LOCATION:Local 46\, 4586 Tennyson St\, Denver\, CO\, 80212\, United States
GEO:39.7798956;-105.0437312
X-APPLE-STRUCTURED-LOCATION;VALUE=URI;X-ADDRESS=Local 46 4586 Tennyson St Denver CO 80212 United States;X-APPLE-RADIUS=500;X-TITLE=4586 Tennyson St:geo:-105.0437312,39.7798956
ATTACH;FMTTYPE=image/jpeg:https://shoptennyson.com/wp-content/uploads/2017/09/b9b89f5bfea130923e8bfdb5b4fba5b5.jpg
END:VEVENT
END:VCALENDAR