BEGIN:VCALENDAR
VERSION:2.0
PRODID:-//Shop Tennyson - ECPv4.9.3.1//NONSGML v1.0//EN
CALSCALE:GREGORIAN
METHOD:PUBLISH
X-WR-CALNAME:Shop Tennyson
X-ORIGINAL-URL:https://shoptennyson.com
X-WR-CALDESC:Events for Shop Tennyson
BEGIN:VEVENT
DTSTART;TZID=UTC-6:20170911T100000
DTEND;TZID=UTC-6:20170911T130000
DTSTAMP:20260421T091651
CREATED:20170907T232057Z
LAST-MODIFIED:20170911T233202Z
UID:14854-1505124000-1505134800@shoptennyson.com
SUMMARY:Mon Industry BOGO 10 - 2 Am
DESCRIPTION:All our industry friends stop on by the Berkeley and enjoy BOGO all day \n
URL:https://shoptennyson.com/event/mon-industry-bogo-10-2-am/
LOCATION:Berkeley Inn\, 3834 Tennyson St\, Denver\, CO\, 80212\, United States
GEO:39.7700553;-105.0437782
X-APPLE-STRUCTURED-LOCATION;VALUE=URI;X-ADDRESS=Berkeley Inn 3834 Tennyson St Denver CO 80212 United States;X-APPLE-RADIUS=500;X-TITLE=3834 Tennyson St:geo:-105.0437782,39.7700553
ATTACH;FMTTYPE=image/jpeg:https://shoptennyson.com/wp-content/uploads/2017/09/41f84009be61bd82df56d3092be0d9df.jpg
END:VEVENT
END:VCALENDAR