BEGIN:VCALENDAR
VERSION:2.0
PRODID:-//Shop Tennyson - ECPv4.9.3.1//NONSGML v1.0//EN
CALSCALE:GREGORIAN
METHOD:PUBLISH
X-WR-CALNAME:Shop Tennyson
X-ORIGINAL-URL:https://shoptennyson.com
X-WR-CALDESC:Events for Shop Tennyson
BEGIN:VEVENT
DTSTART;TZID=UTC-6:20170912T140000
DTEND;TZID=UTC-6:20170912T183000
DTSTAMP:20260421T045151
CREATED:20170907T232100Z
LAST-MODIFIED:20170912T234700Z
UID:14861-1505224800-1505241000@shoptennyson.com
SUMMARY:Gallery is Turning ONE
DESCRIPTION:Gallery is Turning 1! Come celebrate with us\,Light apps\, Drinks\, Fashion Truck from Seventy West \, Henna by Henna Luna & much more! \n
URL:https://shoptennyson.com/event/gallery-is-turning-one/
LOCATION:Gallery Massage Studio\, 3919 Tennyson St\, Denver\, CO\, 80212\, United States
GEO:39.771536;-105.0442807
X-APPLE-STRUCTURED-LOCATION;VALUE=URI;X-ADDRESS=Gallery Massage Studio 3919 Tennyson St Denver CO 80212 United States;X-APPLE-RADIUS=500;X-TITLE=3919 Tennyson St:geo:-105.0442807,39.771536
ATTACH;FMTTYPE=image/png:https://shoptennyson.com/wp-content/uploads/2017/09/3168c339e0d83af76020de8e5f84b9fc.png
END:VEVENT
END:VCALENDAR