BEGIN:VCALENDAR
VERSION:2.0
PRODID:-//Shop Tennyson - ECPv4.9.3.1//NONSGML v1.0//EN
CALSCALE:GREGORIAN
METHOD:PUBLISH
X-WR-CALNAME:Shop Tennyson
X-ORIGINAL-URL:https://shoptennyson.com
X-WR-CALDESC:Events for Shop Tennyson
BEGIN:VEVENT
DTSTART;TZID=UTC-6:20170912T103000
DTEND;TZID=UTC-6:20170912T133000
DTSTAMP:20260421T063044
CREATED:20170907T232058Z
LAST-MODIFIED:20170912T234700Z
UID:14858-1505212200-1505223000@shoptennyson.com
SUMMARY:Families Storytime
DESCRIPTION:Some say it takes a village to raise a child\, and we at Second Star know that to be true! In honor of all those who sacrifice every day to take care of all the kiddos out there\, we wanted to read books about what else? Family! From moms to dads\, aunts\, grandmas- or maybe just a diligent neighbor; your kids will enjoy a wide array of books talking about a topic that is so near and dear to all of us. So come on by! \n
URL:https://shoptennyson.com/event/families-storytime/
LOCATION:Second Star to the Right Children’s Books\, 4353 Tennyson St\, Denver\, CO\, 80212\, United States
GEO:39.7757519;-105.044271
X-APPLE-STRUCTURED-LOCATION;VALUE=URI;X-ADDRESS=Second Star to the Right Children’s Books 4353 Tennyson St Denver CO 80212 United States;X-APPLE-RADIUS=500;X-TITLE=4353 Tennyson St:geo:-105.044271,39.7757519
ATTACH;FMTTYPE=image/jpeg:https://shoptennyson.com/wp-content/uploads/2017/09/c95800c73fa125aac86e98b301cba809.jpg
END:VEVENT
END:VCALENDAR