BEGIN:VCALENDAR
VERSION:2.0
PRODID:-//Shop Tennyson - ECPv4.9.3.1//NONSGML v1.0//EN
CALSCALE:GREGORIAN
METHOD:PUBLISH
X-WR-CALNAME:Shop Tennyson
X-ORIGINAL-URL:https://shoptennyson.com
X-WR-CALDESC:Events for Shop Tennyson
BEGIN:VEVENT
DTSTART;TZID=UTC-6:20170912T173000
DTEND;TZID=UTC-6:20170912T173000
DTSTAMP:20260421T045704
CREATED:20170907T232117Z
LAST-MODIFIED:20170912T234700Z
UID:14863-1505237400-1505237400@shoptennyson.com
SUMMARY:Ellyn Rucker with Blake Mobley @ Local 46
DESCRIPTION:
URL:https://shoptennyson.com/event/ellyn-rucker-with-blake-mobley-local-46/
LOCATION:Local 46\, 4586 Tennyson St\, Denver\, CO\, 80212\, United States
GEO:39.7798956;-105.0437312
X-APPLE-STRUCTURED-LOCATION;VALUE=URI;X-ADDRESS=Local 46 4586 Tennyson St Denver CO 80212 United States;X-APPLE-RADIUS=500;X-TITLE=4586 Tennyson St:geo:-105.0437312,39.7798956
ATTACH;FMTTYPE=image/png:https://shoptennyson.com/wp-content/uploads/2017/09/4623533df324c1593d5362f4079c5deb.png
END:VEVENT
END:VCALENDAR