BEGIN:VCALENDAR
VERSION:2.0
PRODID:-//Shop Tennyson - ECPv4.9.3.1//NONSGML v1.0//EN
CALSCALE:GREGORIAN
METHOD:PUBLISH
X-WR-CALNAME:Shop Tennyson
X-ORIGINAL-URL:https://shoptennyson.com
X-WR-CALDESC:Events for Shop Tennyson
BEGIN:VEVENT
DTSTART;TZID=UTC-6:20170913T093000
DTEND;TZID=UTC-6:20170913T103000
DTSTAMP:20260421T091049
CREATED:20170909T010501Z
LAST-MODIFIED:20170913T224741Z
UID:14924-1505295000-1505298600@shoptennyson.com
SUMMARY:Early Bird Storytime
DESCRIPTION:Early Bird Storytime starts every Wednesday at 9:30 and is in addition to our regular Storytime at 10:30! Perfect for early risers and early nappers! \n
URL:https://shoptennyson.com/event/early-bird-storytime-2/
LOCATION:Second Star to the Right Children’s Books\, 4353 Tennyson St\, Denver\, CO\, 80212\, United States
GEO:39.7757519;-105.044271
X-APPLE-STRUCTURED-LOCATION;VALUE=URI;X-ADDRESS=Second Star to the Right Children’s Books 4353 Tennyson St Denver CO 80212 United States;X-APPLE-RADIUS=500;X-TITLE=4353 Tennyson St:geo:-105.044271,39.7757519
ATTACH;FMTTYPE=image/jpeg:https://shoptennyson.com/wp-content/uploads/2017/09/abfab82ca1a05dfbbc6ade5aa9602e22-1.jpg
END:VEVENT
END:VCALENDAR