BEGIN:VCALENDAR
VERSION:2.0
PRODID:-//Shop Tennyson - ECPv4.9.3.1//NONSGML v1.0//EN
CALSCALE:GREGORIAN
METHOD:PUBLISH
X-WR-CALNAME:Shop Tennyson
X-ORIGINAL-URL:https://shoptennyson.com
X-WR-CALDESC:Events for Shop Tennyson
BEGIN:VEVENT
DTSTART;TZID=UTC+0:20180526T140000
DTEND;TZID=UTC+0:20180530T213000
DTSTAMP:20260419T130930
CREATED:20180522T180939Z
LAST-MODIFIED:20180529T201609Z
UID:27161-1527343200-1527715800@shoptennyson.com
SUMMARY:Denver Day of Rock
DESCRIPTION:We are excited to announce Amp the Cause’s Denver Day of Rock 2018 Artist Lineup! \nMark your calendars for May 26th to see these 25 rockin’ bands for FREE in downtown Denver-16th Street Malll. All donations collected at #DDOR will fund our 50+ community partners that Amp the Cause supports. \n
URL:https://shoptennyson.com/event/denver-day-of-rock/
LOCATION:16th Street Mall\, 1001 16th Street\, Denver\, CO\, 80265\, United States
GEO:39.7480208;-104.9946594
X-APPLE-STRUCTURED-LOCATION;VALUE=URI;X-ADDRESS=16th Street Mall 1001 16th Street Denver CO 80265 United States;X-APPLE-RADIUS=500;X-TITLE=1001 16th Street:geo:-104.9946594,39.7480208
CATEGORIES:Arts & Entertainment,Festivals,Kids & Family Friendly,Live Music
ATTACH;FMTTYPE=image/png:https://shoptennyson.com/wp-content/uploads/2018/05/DDOR-benefitting-AMP-in-orange-3.0-600x414.png
END:VEVENT
END:VCALENDAR