BEGIN:VCALENDAR
VERSION:2.0
PRODID:-//Shop Tennyson - ECPv4.9.3.1//NONSGML v1.0//EN
CALSCALE:GREGORIAN
METHOD:PUBLISH
X-WR-CALNAME:Shop Tennyson
X-ORIGINAL-URL:https://shoptennyson.com
X-WR-CALDESC:Events for Shop Tennyson
BEGIN:VEVENT
DTSTART;TZID=UTC-6:20170913T214500
DTEND;TZID=UTC-6:20170913T214500
DTSTAMP:20260421T160802
CREATED:20170914T003047Z
LAST-MODIFIED:20170914T224509Z
UID:15041-1505339100-1505339100@shoptennyson.com
SUMMARY:Card Catalog @Oriental Theater
DESCRIPTION:Come on out to the Oriental Theater on Sept 13th and watch us kill it at 10pm! We have been selected as a band to participate in the Colorado  solo/band artist awards. We would love to hear you hoot and holler at us!!! Hit me up if you’re interested\, I have tickets for 5 dollars each:) 🎶🎸 \n
URL:https://shoptennyson.com/event/card-catalog-oriental-theater/
LOCATION:The Oriental Theater\, 4335 W 44th Ave\, Denver\, CO\, 80212\, United States
GEO:39.7767576;-105.0435938
X-APPLE-STRUCTURED-LOCATION;VALUE=URI;X-ADDRESS=The Oriental Theater 4335 W 44th Ave Denver CO 80212 United States;X-APPLE-RADIUS=500;X-TITLE=4335 W 44th Ave:geo:-105.0435938,39.7767576
ATTACH;FMTTYPE=image/jpeg:https://shoptennyson.com/wp-content/uploads/2017/09/b16e1c60cd1e05101f215ffdc80aa2b2.jpg
END:VEVENT
END:VCALENDAR