BEGIN:VCALENDAR
VERSION:2.0
PRODID:-//Shop Tennyson - ECPv4.9.3.1//NONSGML v1.0//EN
CALSCALE:GREGORIAN
METHOD:PUBLISH
X-WR-CALNAME:Shop Tennyson
X-ORIGINAL-URL:https://shoptennyson.com
X-WR-CALDESC:Events for Shop Tennyson
BEGIN:VEVENT
DTSTART;TZID=UTC-6:20170913T180000
DTEND;TZID=UTC-6:20170914T010000
DTSTAMP:20260421T104107
CREATED:20170909T010502Z
LAST-MODIFIED:20170913T224741Z
UID:14926-1505325600-1505350800@shoptennyson.com
SUMMARY:Bridging The Music Presents: CO Solo Artist Awards
DESCRIPTION:Colorado!\nBridging The Music Presents: Colorado Solo Artist Awards\nDate: September 13th\, 2017\nTime: 6:00pm Doors 6:30pm Music\nLocation: The Oriental Theater\, Denver CO\nAges: 18+ w/ ID / All Ages w/ Parent \nOn September 13th\, The Oriental Theater will shine with a sparkling array of exceptional music\, as Bridging The Music Productions invites solo artists from all over the Denver area to compete for the CO Solo Artist of the Year Award and Bridging The Music’s fabulous glass art “Bridgie Award”.  \nBridging the Music\, a music production company engaged in the throwing of local and national events\, is calling out to the public to come out and vote for their favorite performer to help decide this year’s champion. These solo performers only have a few minutes to win the audience over through their music in hopes of winning votes and advancing to the finals.  \nMusic starts at 6:30 pm and it’s open to all ages. Colorado\, come out and support music from your state and enjoy a night of great live performances! \nOnline Ticket Cost: $10.00 + $2.99 Processing Fee = $12.99 Total Ticket Cost\nTickets will be $15 at the door the night of the show + $5 charge for anyone under 21 \n
URL:https://shoptennyson.com/event/bridging-the-music-presents-co-solo-artist-awards/
LOCATION:The Oriental Theater\, 4335 W 44th Ave\, Denver\, CO\, 80212\, United States
GEO:39.7767576;-105.0435938
X-APPLE-STRUCTURED-LOCATION;VALUE=URI;X-ADDRESS=The Oriental Theater 4335 W 44th Ave Denver CO 80212 United States;X-APPLE-RADIUS=500;X-TITLE=4335 W 44th Ave:geo:-105.0435938,39.7767576
ATTACH;FMTTYPE=image/jpeg:https://shoptennyson.com/wp-content/uploads/2017/09/906d42997bf42b5cd891eb2fe2c9b134.jpg
END:VEVENT
END:VCALENDAR