BEGIN:VCALENDAR
VERSION:2.0
PRODID:-//Shop Tennyson - ECPv4.9.3.1//NONSGML v1.0//EN
CALSCALE:GREGORIAN
METHOD:PUBLISH
X-WR-CALNAME:Shop Tennyson
X-ORIGINAL-URL:https://shoptennyson.com
X-WR-CALDESC:Events for Shop Tennyson
BEGIN:VEVENT
DTSTART;TZID=UTC-6:20170913T190000
DTEND;TZID=UTC-6:20170913T210000
DTSTAMP:20260421T145736
CREATED:20170909T010652Z
LAST-MODIFIED:20170914T224509Z
UID:14929-1505329200-1505336400@shoptennyson.com
SUMMARY:BookBar BookClub
DESCRIPTION:On the second Wednesday of the month\, BookBar hosts a BookBar BookClub from 7pm – 9pm! For September we’re lucky enough to be joined by the author of Marked Men himself\, Poet Laureat Joesph Hutchinson. He’ll be in conversation with BookBar’s own Tommy Vanture.  \nFor more info\, visit: http://www.bookbardenver.com/event/bookbar-bookclub-9 \n
URL:https://shoptennyson.com/event/bookbar-bookclub-2/
LOCATION:BookBar\, 4280 Tennyson St\, Denver\, CO\, 80212\, United States
GEO:39.7751607;-105.0437554
X-APPLE-STRUCTURED-LOCATION;VALUE=URI;X-ADDRESS=BookBar 4280 Tennyson St Denver CO 80212 United States;X-APPLE-RADIUS=500;X-TITLE=4280 Tennyson St:geo:-105.0437554,39.7751607
ATTACH;FMTTYPE=image/jpeg:https://shoptennyson.com/wp-content/uploads/2017/09/e2c9ed99f6b17f0eda5834a132f6005b.jpg
END:VEVENT
END:VCALENDAR